BEGIN:VCALENDAR
VERSION:2.0
PRODID:icalendar-ruby
CALSCALE:GREGORIAN
METHOD:PUBLISH
BEGIN:VEVENT
DTSTAMP:20260425T005007Z
UID:211-1246030@riveroflifelutheran.com
DTSTART:20261004T134500Z
DTEND:20261004T144500Z
CLASS:PUBLIC
CREATED:20260424T174608
DESCRIPTION:
LAST-MODIFIED:20260424T174608
LOCATION:River of LIFE - 830 Sunrise Drive\, St. Peter
SUMMARY:Sunday School & Confirmation
URL;VALUE=URI:https://www.riveroflifelutheran.com/events/sunday-school-conf
 irmation--211/2026-10-04
ATTACH;FILENAME=Sunday-School-%281%29.png;FMTTYPE=image/png:https://dq5pwpg
 1q8ru0.cloudfront.net/2025/08/15/03/10/02/f7607661-49ab-4c97-a811-efa42b65
 1b4a/Sunday-School-%25281%2529.png
END:VEVENT
END:VCALENDAR
