BEGIN:VCALENDAR
VERSION:2.0
PRODID:icalendar-ruby
CALSCALE:GREGORIAN
METHOD:PUBLISH
BEGIN:VEVENT
DTSTAMP:20260422T221602Z
UID:196-1233459@riveroflifelutheran.com
DTSTART:20260927T134500Z
DTEND:20260927T144500Z
CLASS:PUBLIC
CREATED:20260422T151318
DESCRIPTION:
LAST-MODIFIED:20260422T151318
LOCATION:
SUMMARY:Sunday Morning Bible Study
URL;VALUE=URI:https://www.riveroflifelutheran.com/events/sunday-morning-bib
 le-study/2026-09-27
ATTACH;FILENAME=Sunday-Morning-Bible-Study-%281500-x-784-px%29.png;FMTTYPE=
 image/png:https://dq5pwpg1q8ru0.cloudfront.net/2025/05/07/17/00/22/462b228
 6-faf2-4795-8ac8-6d218aa03b46/Sunday-Morning-Bible-Study-%25281500-x-784-p
 x%2529.png
END:VEVENT
END:VCALENDAR
